BEGIN:VCALENDAR
VERSION:2.0
PRODID:-//EURAD School of RWM - ECPv6.15.20//NONSGML v1.0//EN
CALSCALE:GREGORIAN
METHOD:PUBLISH
X-WR-CALNAME:EURAD School of RWM
X-ORIGINAL-URL:https://euradschool.eu
X-WR-CALDESC:Events for EURAD School of RWM
REFRESH-INTERVAL;VALUE=DURATION:PT1H
X-Robots-Tag:noindex
X-PUBLISHED-TTL:PT1H
BEGIN:VTIMEZONE
TZID:Europe/Brussels
BEGIN:DAYLIGHT
TZOFFSETFROM:+0100
TZOFFSETTO:+0200
TZNAME:CEST
DTSTART:20210328T010000
END:DAYLIGHT
BEGIN:STANDARD
TZOFFSETFROM:+0200
TZOFFSETTO:+0100
TZNAME:CET
DTSTART:20211031T010000
END:STANDARD
BEGIN:DAYLIGHT
TZOFFSETFROM:+0100
TZOFFSETTO:+0200
TZNAME:CEST
DTSTART:20220327T010000
END:DAYLIGHT
BEGIN:STANDARD
TZOFFSETFROM:+0200
TZOFFSETTO:+0100
TZNAME:CET
DTSTART:20221030T010000
END:STANDARD
BEGIN:DAYLIGHT
TZOFFSETFROM:+0100
TZOFFSETTO:+0200
TZNAME:CEST
DTSTART:20230326T010000
END:DAYLIGHT
BEGIN:STANDARD
TZOFFSETFROM:+0200
TZOFFSETTO:+0100
TZNAME:CET
DTSTART:20231029T010000
END:STANDARD
END:VTIMEZONE
BEGIN:VEVENT
DTSTART;TZID=Europe/Brussels:20220125T140000
DTEND;TZID=Europe/Brussels:20220125T163000
DTSTAMP:20260421T140431
CREATED:20220113T080907Z
LAST-MODIFIED:20220202T075605Z
UID:122049-1643119200-1643128200@euradschool.eu
SUMMARY:CHANCE Webinar series | Muon Tomography
DESCRIPTION:Muon tomography is a non-destructive technique to image objects from a safe distance. It utilizes the ever-present cosmic radiation and thus does not require additional radiation sources. Due to the highly penetrating nature of muons\, it is possible to image the insides of large objects\, ranging from nuclear waste drums to pyramids and volcanoes. As such it is an ideal tool to determine the contents and condition of nuclear waste materials in containers like waste drums up to CASTOR storage casks. \nFor more information on the CHANCE project\, please visit the project website here. \nClick here to watch the recording of this webinar.
URL:https://euradschool.eu/event/chance-webinar-series-muon-tomography/
LOCATION:Online
CATEGORIES:Partner training course
ORGANIZER;CN="CHANCE":MAILTO:chance-h2020@sckcen.be
END:VEVENT
END:VCALENDAR