BEGIN:VCALENDAR
VERSION:2.0
PRODID:-//EURAD School of RWM - ECPv6.15.20//NONSGML v1.0//EN
CALSCALE:GREGORIAN
METHOD:PUBLISH
X-WR-CALNAME:EURAD School of RWM
X-ORIGINAL-URL:https://euradschool.eu
X-WR-CALDESC:Events for EURAD School of RWM
REFRESH-INTERVAL;VALUE=DURATION:PT1H
X-Robots-Tag:noindex
X-PUBLISHED-TTL:PT1H
BEGIN:VTIMEZONE
TZID:Europe/Brussels
BEGIN:DAYLIGHT
TZOFFSETFROM:+0100
TZOFFSETTO:+0200
TZNAME:CEST
DTSTART:20190331T010000
END:DAYLIGHT
BEGIN:STANDARD
TZOFFSETFROM:+0200
TZOFFSETTO:+0100
TZNAME:CET
DTSTART:20191027T010000
END:STANDARD
BEGIN:DAYLIGHT
TZOFFSETFROM:+0100
TZOFFSETTO:+0200
TZNAME:CEST
DTSTART:20200329T010000
END:DAYLIGHT
BEGIN:STANDARD
TZOFFSETFROM:+0200
TZOFFSETTO:+0100
TZNAME:CET
DTSTART:20201025T010000
END:STANDARD
BEGIN:DAYLIGHT
TZOFFSETFROM:+0100
TZOFFSETTO:+0200
TZNAME:CEST
DTSTART:20210328T010000
END:DAYLIGHT
BEGIN:STANDARD
TZOFFSETFROM:+0200
TZOFFSETTO:+0100
TZNAME:CET
DTSTART:20211031T010000
END:STANDARD
BEGIN:DAYLIGHT
TZOFFSETFROM:+0100
TZOFFSETTO:+0200
TZNAME:CEST
DTSTART:20220327T010000
END:DAYLIGHT
BEGIN:STANDARD
TZOFFSETFROM:+0200
TZOFFSETTO:+0100
TZNAME:CET
DTSTART:20221030T010000
END:STANDARD
BEGIN:DAYLIGHT
TZOFFSETFROM:+0100
TZOFFSETTO:+0200
TZNAME:CEST
DTSTART:20230326T010000
END:DAYLIGHT
BEGIN:STANDARD
TZOFFSETFROM:+0200
TZOFFSETTO:+0100
TZNAME:CET
DTSTART:20231029T010000
END:STANDARD
BEGIN:DAYLIGHT
TZOFFSETFROM:+0100
TZOFFSETTO:+0200
TZNAME:CEST
DTSTART:20240331T010000
END:DAYLIGHT
BEGIN:STANDARD
TZOFFSETFROM:+0200
TZOFFSETTO:+0100
TZNAME:CET
DTSTART:20241027T010000
END:STANDARD
END:VTIMEZONE
BEGIN:VEVENT
DTSTART;VALUE=DATE:20231003
DTEND;VALUE=DATE:20231007
DTSTAMP:20260414T121223
CREATED:20221026T123354Z
LAST-MODIFIED:20221026T123354Z
UID:122343-1696291200-1696636799@euradschool.eu
SUMMARY:International Conference on Environmental Remediation and Radioactive Waste Management®
DESCRIPTION:The International Conference on Radioactive Waste Management and Environmental Remediation (ICEM®) 2023 is scheduled for October 3-6\, 2023 at  the International Conference Centre Stuttgart in Stuttgart\, Germany. This event promotes a broad global exchange of information on technologies\, operations\, management approaches\, economics\, and public policies in the critical areas of environmental remediation and radioactive waste  management. \nAbstract submission deadline is February 1st 2023 \nFor an overview of topics discussed at this event\, please consult the event website.
URL:https://euradschool.eu/event/international-conference-on-environmental-remediation-and-radioactive-waste-management/
LOCATION:International Conference Centre Stuttgart\, Germany
CATEGORIES:PhD event
END:VEVENT
BEGIN:VEVENT
DTSTART;VALUE=DATE:20220921
DTEND;VALUE=DATE:20220924
DTSTAMP:20260414T121223
CREATED:20220607T081654Z
LAST-MODIFIED:20220607T081654Z
UID:122198-1663718400-1663977599@euradschool.eu
SUMMARY:Decay Days 2022
DESCRIPTION:Are you an early career scientist?\nAre you in deep geological repository research?\nDid you slowly decay in pandemic isolation? \nLeave the latter to the nuclear waste in its repositories and join us at the DECAY Days 2022!\nYou will experience opportunities for social and professional exchange\, keynotes by senior researchers\, insights on career options outside academia and a guided tour to the Mont Terri rock laboratory. \nConference fee: 150 euro\nRegistration & abstract submission: May 30 – July 31 2022 \nFor more information\, visit the event website.
URL:https://euradschool.eu/event/decay-days-2022/
LOCATION:Mont Terri rock laboratory\, St-Ursanne\, Switzerland\, Route de la Gare 63\, St-Ursanne\, 2882\, Switzerland
CATEGORIES:PhD event
END:VEVENT
BEGIN:VEVENT
DTSTART;TZID=Europe/Brussels:20200915T160000
DTEND;TZID=Europe/Brussels:20200915T193000
DTSTAMP:20260414T121223
CREATED:20201124T075902Z
LAST-MODIFIED:20201209T125626Z
UID:120994-1600185600-1600198200@euradschool.eu
SUMMARY:EURAD PhD Event N°1
DESCRIPTION:For this event\, all PhD students contributing to EURAD are invited to present themselves and their research to the wider EURAD community. \nBesides PhD students\, young and senior professionals associated with EURAD are expected to join this event. \nThis event is an opportunity for EURAD PhD students to get to know each other and to network with other PhD students as well as experts in the field. \nThe recordings of this first EURAD PhD event can be consulted here.
URL:https://euradschool.eu/event/eurad-phd-event-n1/
LOCATION:Online
CATEGORIES:PhD event
END:VEVENT
END:VCALENDAR