BEGIN:VCALENDAR
VERSION:2.0
PRODID:-//EURAD School of RWM - ECPv6.15.20//NONSGML v1.0//EN
CALSCALE:GREGORIAN
METHOD:PUBLISH
X-WR-CALNAME:EURAD School of RWM
X-ORIGINAL-URL:https://euradschool.eu
X-WR-CALDESC:Events for EURAD School of RWM
REFRESH-INTERVAL;VALUE=DURATION:PT1H
X-Robots-Tag:noindex
X-PUBLISHED-TTL:PT1H
BEGIN:VTIMEZONE
TZID:Europe/Brussels
BEGIN:DAYLIGHT
TZOFFSETFROM:+0100
TZOFFSETTO:+0200
TZNAME:CEST
DTSTART:20180325T010000
END:DAYLIGHT
BEGIN:STANDARD
TZOFFSETFROM:+0200
TZOFFSETTO:+0100
TZNAME:CET
DTSTART:20181028T010000
END:STANDARD
BEGIN:DAYLIGHT
TZOFFSETFROM:+0100
TZOFFSETTO:+0200
TZNAME:CEST
DTSTART:20190331T010000
END:DAYLIGHT
BEGIN:STANDARD
TZOFFSETFROM:+0200
TZOFFSETTO:+0100
TZNAME:CET
DTSTART:20191027T010000
END:STANDARD
BEGIN:DAYLIGHT
TZOFFSETFROM:+0100
TZOFFSETTO:+0200
TZNAME:CEST
DTSTART:20200329T010000
END:DAYLIGHT
BEGIN:STANDARD
TZOFFSETFROM:+0200
TZOFFSETTO:+0100
TZNAME:CET
DTSTART:20201025T010000
END:STANDARD
BEGIN:DAYLIGHT
TZOFFSETFROM:+0100
TZOFFSETTO:+0200
TZNAME:CEST
DTSTART:20210328T010000
END:DAYLIGHT
BEGIN:STANDARD
TZOFFSETFROM:+0200
TZOFFSETTO:+0100
TZNAME:CET
DTSTART:20211031T010000
END:STANDARD
END:VTIMEZONE
BEGIN:VEVENT
DTSTART;TZID=Europe/Brussels:20200122T100000
DTEND;TZID=Europe/Brussels:20200124T170000
DTSTAMP:20260422T005446
CREATED:20201025T140112Z
LAST-MODIFIED:20230413T062257Z
UID:120676-1579687200-1579885200@euradschool.eu
SUMMARY:EURAD Training on Multiphysical couplings in geomechanics
DESCRIPTION:HITEC deals with thermal impact and GAS concerns gas transfer\, both in the context of geological disposal of radioactive waste. This school allowed the attendees to improve their understanding of heat transfers\, water and gas migration\, stress and strain evolution in a repository. The school addressed both experimental and numerical investigations\, at small (lab) and large (in situ) scale. These investigations involved geomaterials such as the host rock\, either clayey or crystalline rock\, but also bentonite which is typically used in engineered barriers for its sealing capacity.\nAt the end of the school\, participants had a broad view of the state-of-the-art and of the challenges related to the GAS and HITEC WP research programme. They met a number of key researchers on THM and gas transport in the context of geological disposal\, fostering information exchange and cooperation within the geomechanics community. \nIn particular\, the attendees was able to: \n\nUnderstand the basics of the thermo-hydro-mechanical (multi-physical) couplings in geomaterials;\nPerceive the experimental evidences and figure out the physical processes at the laboratory scale and from in situ tests;\nCapture the fundamentals on constitutive modelling of the relevant phenomena;\nIdentify the challenges in numerical modelling of these physical processes.\n\nA second GAS/HITEC joint training course is planned in 2023 in order to highlight the main results of these WPs with respect to multiphysical coupling in geomechanics and their applications in the development and implementation of long-term solutions for radioactive waste management. \n  \nTraining materials\nClick here to download the course materials. \n  \n 
URL:https://euradschool.eu/event/test-1-eurad-training-course/
LOCATION:Institut de Mathémathique (B37)\, Quartier Polytech 1 - Allée de la Découverte\, 12 - Sart Tilman\, Liège\, Liège\, 4000
CATEGORIES:EURAD training course
END:VEVENT
BEGIN:VEVENT
DTSTART;VALUE=DATE:20190321
DTEND;VALUE=DATE:20190322
DTSTAMP:20260422T005446
CREATED:20220401T120845Z
LAST-MODIFIED:20220401T120845Z
UID:122149-1553126400-1553212799@euradschool.eu
SUMMARY:CHANCE  | Characterisation of conditioned radioactive waste: Status\, challenges and developments
DESCRIPTION:During this CHANCE Topical Day (organized on March 21\, 2019) the current needs\, scientific evolutions and CHANCE hightlights concerning conditioned waste characterization using non-destructive techniques was highlighted. The selected speakers have either operational experience with conditioned waste characterization\, or are scientists working on new characterization techniques. This Topical Day therefore also aimed at bringing together these two groups of stakeholders. \nClick here to view the recording of this Topical Day.
URL:https://euradschool.eu/event/chance-characterisation-of-conditioned-radioactive-waste-status-challenges-and-developments/
CATEGORIES:EURAD webinar
ORGANIZER;CN="CHANCE":MAILTO:chance-h2020@sckcen.be
END:VEVENT
END:VCALENDAR