BEGIN:VCALENDAR
VERSION:2.0
PRODID:-//EURAD School of RWM - ECPv6.15.20//NONSGML v1.0//EN
CALSCALE:GREGORIAN
METHOD:PUBLISH
X-WR-CALNAME:EURAD School of RWM
X-ORIGINAL-URL:https://euradschool.eu
X-WR-CALDESC:Events for EURAD School of RWM
REFRESH-INTERVAL;VALUE=DURATION:PT1H
X-Robots-Tag:noindex
X-PUBLISHED-TTL:PT1H
BEGIN:VTIMEZONE
TZID:Europe/Brussels
BEGIN:DAYLIGHT
TZOFFSETFROM:+0100
TZOFFSETTO:+0200
TZNAME:CEST
DTSTART:20220327T010000
END:DAYLIGHT
BEGIN:STANDARD
TZOFFSETFROM:+0200
TZOFFSETTO:+0100
TZNAME:CET
DTSTART:20221030T010000
END:STANDARD
BEGIN:DAYLIGHT
TZOFFSETFROM:+0100
TZOFFSETTO:+0200
TZNAME:CEST
DTSTART:20230326T010000
END:DAYLIGHT
BEGIN:STANDARD
TZOFFSETFROM:+0200
TZOFFSETTO:+0100
TZNAME:CET
DTSTART:20231029T010000
END:STANDARD
BEGIN:DAYLIGHT
TZOFFSETFROM:+0100
TZOFFSETTO:+0200
TZNAME:CEST
DTSTART:20240331T010000
END:DAYLIGHT
BEGIN:STANDARD
TZOFFSETFROM:+0200
TZOFFSETTO:+0100
TZNAME:CET
DTSTART:20241027T010000
END:STANDARD
END:VTIMEZONE
BEGIN:VEVENT
DTSTART;VALUE=DATE:20230828
DTEND;VALUE=DATE:20230902
DTSTAMP:20260415T194241
CREATED:20230407T085728Z
LAST-MODIFIED:20230616T061734Z
UID:122564-1693180800-1693612799@euradschool.eu
SUMMARY:Training course | Multiphysics and multiscale coupled processes in geomaterials - Focus on thermal effects and gas transfer impact on the behaviour of geomaterials
DESCRIPTION:Background information\nGeomechanics plays a significant role in the understanding of the multiphysics and multiscale processes taking place in a geological disposal facility for radioactive waste. The objective of the training course is to introduce state-of-the-art understanding\, concepts and methods related to thermo-hydro-mechanical coupled processes\, the physical impacts of thermal loading and the mechanistic understanding of gas migration in geomaterials. Results from the EURAD project will be integrated to the course. Half day will be dedicated to presentations by early-career researchers. A visit to the HADES Underground Research Laboratory (EURIDICE\, Mol\, Belgium) will be organised on the last day of the course. \nProgramme\nClick here to download a (preliminary) programme. \nRegistration\nClick here to register\nNOTE: By registering you will be placed on a waiting list (80 seats are available). The course organisers will confirm your attendance via mail no sooner than July 1st 2023. Priority will be given to EURAD and ALERT members. By registering for this training course\, you agree with pictures being taken during the training course\, as well as using your contact information to update you on this training course.
URL:https://euradschool.eu/event/gas-hitec-training-course/
LOCATION:ULiège\, Sart-Tilman campus\, Liège\, Liège\, Belgium
CATEGORIES:EURAD training course
END:VEVENT
END:VCALENDAR